BEGIN:VCALENDAR
VERSION:2.0
PRODID:-//BSHI - ECPv6.15.16//NONSGML v1.0//EN
CALSCALE:GREGORIAN
METHOD:PUBLISH
X-WR-CALNAME:BSHI
X-ORIGINAL-URL:https://bshi.org.uk
X-WR-CALDESC:Events for BSHI
REFRESH-INTERVAL;VALUE=DURATION:PT1H
X-Robots-Tag:noindex
X-PUBLISHED-TTL:PT1H
BEGIN:VTIMEZONE
TZID:UTC
BEGIN:STANDARD
TZOFFSETFROM:+0000
TZOFFSETTO:+0000
TZNAME:UTC
DTSTART:20250101T000000
END:STANDARD
END:VTIMEZONE
BEGIN:VEVENT
DTSTART;VALUE=DATE:20260322
DTEND;VALUE=DATE:20260326
DTSTAMP:20260421T000305
CREATED:20250924T133951Z
LAST-MODIFIED:20250924T133951Z
UID:12074-1774137600-1774483199@bshi.org.uk
SUMMARY:52nd Annual Meeting of the EBMT
DESCRIPTION:
URL:https://bshi.org.uk/event/52nd-annual-meeting-of-the-ebmt/
LOCATION:Madrid
END:VEVENT
END:VCALENDAR